BEGIN:VCALENDAR
VERSION:2.0
PRODID:13º Benfeita Trail - Arganil
X-WR-CALNAME:13º Benfeita Trail - Arganil
X-WR-TIMEZONE:Europe/Lisbon
X-PUBLISHED-TTL:P1W
BEGIN:VTIMEZONE
TZID:Europe/Lisbon
X-LIC-LOCATION:Europe/Lisbon
END:VTIMEZONE
BEGIN:VEVENT
UID:69e76ba49883a
DTSTART;VALUE=DATE:20260719
SEQUENCE:0
TRANSP:OPAQUE
DTEND;VALUE=DATE:20260720
SUMMARY:13º Benfeita Trail - Arganil
CLASS:PUBLIC
DESCRIPTION:13º Benfeita Trail - Arganil
X-MICROSOFT-CDO-ALLDAYEVENT:TRUE
DTSTAMP:20260421T122052Z
END:VEVENT
END:VCALENDAR